BEGIN:VCALENDAR
VERSION:2.0
METHOD:PUBLISH
BEGIN:VEVENT
DTSTART:20240514T100000
DTEND:20240514T100000
LOCATION:Innovation Clinic, Stadion Tarczyński Arena al. Śląska 1  Wrocław
TRANSP: OPAQUE
SEQUENCE:0
UID:
DTSTAMP:20260424T234526Z
SUMMARY:Networking ZIG - Biznes w dobrej formie
DESCRIPTION:Networking ZIG - Biznes w dobrej formieWspólnie z Innovation Clinic zapraszamy na spotkanie członkowskie ZIG!Spotkaj liderów branży, innowatorów i praktyków, którzy podzielą się swoją......
URL:https://app.evenea.pl/event/879811-41kopia1/
PRIORITY:1
CLASS:PUBLIC
END:VEVENT
END:VCALENDAR
