BEGIN:VCALENDAR
VERSION:2.0
METHOD:PUBLISH
BEGIN:VEVENT
DTSTART:20240620T093000
DTEND:20240620T093000
LOCATION:Hala Stulecia ul. Wystawowa 1  Wrocław
TRANSP: OPAQUE
SEQUENCE:0
UID:
DTSTAMP:20260425T003340Z
SUMMARY:X Wrocławskie Forum Kobiet
DESCRIPTION:20 czerwca 2024 godz. 9:30Centrum Kongresowe Hali Stulecia we WrocławiuWrocławskie Forum Kobiet to wydarzenie z 9-letnią tradycją. W roku 2024 już po raz dziesiąty będzie miejscem spotkania......
URL:https://app.evenea.pl/event/879811-42/
PRIORITY:1
CLASS:PUBLIC
END:VEVENT
END:VCALENDAR
