BEGIN:VCALENDAR
VERSION:2.0
METHOD:PUBLISH
BEGIN:VEVENT
DTSTART:20260130T100000
DTEND:20260130T100000
LOCATION:Triqube ul. Januszowicka 5, Wrocław ul. Januszowicka 5  biuro@zig.pl
TRANSP: OPAQUE
SEQUENCE:0
UID:
DTSTAMP:20260420T213728Z
SUMMARY:Szkolenie JPK_PD na przykładzie JPK_CIT jednostki pozostałej
DESCRIPTION:Opis szkoleniaNajwiększe spółki już są objęte nowym obowiązkiem raportowania JPK_CIT. Mniejsze podmioty, składające JPK_V7M, będą obowiązane do przesłania JPK_CIT po raz pierwszy za......
URL:https://app.evenea.pl/event/879811-67/
PRIORITY:1
CLASS:PUBLIC
END:VEVENT
END:VCALENDAR
