BEGIN:VCALENDAR
VERSION:2.0
METHOD:PUBLISH
BEGIN:VEVENT
DTSTART:20260331T103000
DTEND:20260331T140000
LOCATION:Sala Okrągła im. Lecha Bądkowskiego, Urząd Marszałkowski Województwa Pomorskiego . ul. Okopowa 21/27  Gdańsk
TRANSP: OPAQUE
SEQUENCE:0
UID:
DTSTAMP:20260424T203555Z
SUMMARY:"Kobiety z energią" - seminarium dla kobiet - 31.03.2026 r.
DESCRIPTION:Program Seminarium "Kobiety z energią" - seminarium dla kobiet - 31.03.2026 r.Wydarzenie realizowane będzie w formie seminarium, konferencji networkingowej dla kobiet, której głównym celem......
URL:https://app.evenea.pl/event/879951-471/
PRIORITY:1
CLASS:PUBLIC
END:VEVENT
END:VCALENDAR
