BEGIN:VCALENDAR
VERSION:2.0
METHOD:PUBLISH
BEGIN:VEVENT
DTSTART:20260327T180000
DTEND:20260327T180000
LOCATION:Concordia Design Wrocław Wyspa Słodowa 7  Wrocław
TRANSP: OPAQUE
SEQUENCE:0
UID:
DTSTAMP:20260420T070543Z
SUMMARY:Concordia Talks - spotkanie z Arturem Andrusem
DESCRIPTION:Wiosenny cykl spotkań autorskich Concordia_Talks Spotkanie autorskie z Arturem Andrusem 27 marca 2026; godz. 18:00Prowadzenie: Tomasz Wołodźko, Katedra Dziennikarstwa i Komunikacji Społecznej......
URL:https://app.evenea.pl/event/879974-85/
PRIORITY:1
CLASS:PUBLIC
END:VEVENT
END:VCALENDAR
