BEGIN:VCALENDAR
VERSION:2.0
METHOD:PUBLISH
BEGIN:VEVENT
DTSTART:20260428T170000
DTEND:20260428T170000
LOCATION:KOSZALIŃSKA BIBLIOTEKA PUBLICZNA Plac Polonii 1  Koszalin
TRANSP: OPAQUE
SEQUENCE:0
UID:
DTSTAMP:20260419T174512Z
SUMMARY:Dziecięcy Wieczór Filmowy
DESCRIPTION:Koszalińska Biblioteka Publiczna zaprasza naDziecięcy Wieczór FilmowyWyświetlony zostanie film - niespodzianka.Projekcja odbędzie się 28 kwietnia o godzinie 17:00 w sali kinowej......
URL:https://app.evenea.pl/event/880342/
PRIORITY:1
CLASS:PUBLIC
END:VEVENT
END:VCALENDAR
