BEGIN:VCALENDAR
VERSION:2.0
METHOD:PUBLISH
BEGIN:VEVENT
DTSTART:20240709T110000
DTEND:20240709T130000
LOCATION:UrsynLab al. KEN 60 (budynek Multikina)  
TRANSP: OPAQUE
SEQUENCE:0
UID:
DTSTAMP:20260421T204229Z
SUMMARY:"Rękojmia i gwarancja przy sprzedaży towarów i usług" "
DESCRIPTION:Zapraszamy na spotkanie "Rękojmia i gwarancja przy sprzedaży towarów i usług" Spotkanie poprowadzi Ilona Bałdyga, radca prawny Czym różni się rękojmia od gwarancji? Jak rozpatrywać......
URL:https://app.evenea.pl/event/883300-36/
PRIORITY:1
CLASS:PUBLIC
END:VEVENT
END:VCALENDAR
