BEGIN:VCALENDAR
VERSION:2.0
METHOD:PUBLISH
BEGIN:VEVENT
DTSTART:20240716T180000
DTEND:20240716T193000
LOCATION:UrsynLab al. KEN 60 (budynek Multikina)  
TRANSP: OPAQUE
SEQUENCE:0
UID:
DTSTAMP:20260421T204252Z
SUMMARY:Metody i techniki sprzedaży
DESCRIPTION:Zapraszamy na wydarzenie "Metody i techniki sprzedaży".Spotkanie poprowadzi Arkadiusz Klekociuk, trener i ekspert w zakresie sprzedaż. Agenda wydarzenia : 1) Moja historia biznesowa2) Wybrane......
URL:https://app.evenea.pl/event/883300-38/
PRIORITY:1
CLASS:PUBLIC
END:VEVENT
END:VCALENDAR
