BEGIN:VCALENDAR
VERSION:2.0
METHOD:PUBLISH
BEGIN:VEVENT
DTSTART:20240717T170000
DTEND:20240717T190000
LOCATION:UrsynLab al. KEN 60 (budynek Multikina)  Warszawa
TRANSP: OPAQUE
SEQUENCE:0
UID:
DTSTAMP:20260421T204252Z
SUMMARY:Kreacja w materiałach reklamowych i strategie marketingowe  - warsztaty dla średniozaawansowanych
DESCRIPTION:"Kreacja w materiałach reklamowych i strategie marketingowe - warsztaty dla średniozaawansowanych " - spotkanie poprowadzi Filip Fryś, ekspert ds. promocji i komunikacji, Agencja Marketingowa......
URL:https://app.evenea.pl/event/883300-39/
PRIORITY:1
CLASS:PUBLIC
END:VEVENT
END:VCALENDAR
