BEGIN:VCALENDAR
VERSION:2.0
METHOD:PUBLISH
BEGIN:VEVENT
DTSTART:20240806T110000
DTEND:20240806T130000
LOCATION:UrsynLab al. KEN 60 (budynek Multikina)  
TRANSP: OPAQUE
SEQUENCE:0
UID:
DTSTAMP:20260424T174555Z
SUMMARY:"Ochrona reputacji i innych dóbr osobistych przedsiębiorcy"
DESCRIPTION:Zapraszamy na spotkanie "Ochrona reputacji i innych dóbr osobistych przedsiębiorcy" Spotkanie poprowadzi Ilona Bałdyga, radca prawny Klauzula RODO:Klauzula informacyjna o przetwarzaniu danych......
URL:https://app.evenea.pl/event/883300-41/
PRIORITY:1
CLASS:PUBLIC
END:VEVENT
END:VCALENDAR
