BEGIN:VCALENDAR
VERSION:2.0
METHOD:PUBLISH
BEGIN:VEVENT
DTSTART:20240807T130000
DTEND:20240807T150000
LOCATION:UrsynLab al. KEN 60 (budynek Multikina)  
TRANSP: OPAQUE
SEQUENCE:0
UID:
DTSTAMP:20260424T174555Z
SUMMARY:"ZUS bez tajemnic"
DESCRIPTION:"ZUS bez tajemnic" - konsultacje z pracownikiem Zakładu Ubezpieczeń Społecznych Tematyka spotkania:-ulga na start-preferencyjne składki-mały ZUS+-działalność......
URL:https://app.evenea.pl/event/883300-42/
PRIORITY:1
CLASS:PUBLIC
END:VEVENT
END:VCALENDAR
