BEGIN:VCALENDAR
VERSION:2.0
METHOD:PUBLISH
BEGIN:VEVENT
DTSTART:20240821T170000
DTEND:20240821T190000
LOCATION:UrsynLab al. KEN 60 (budynek Multikina)  Warszawa
TRANSP: OPAQUE
SEQUENCE:0
UID:
DTSTAMP:20260424T175214Z
SUMMARY:"Lepiej widoczni, widocznie lepsi - spotkanie networkingowe"
DESCRIPTION:Networking biznesowy to budowanie sieci kontaktów, które pomagają wymianie informacji, pozyskaniu rekomendacji oraz wspieraniu się nawzajem w rozwoju biznesów. Budowanie sieci kontaktów......
URL:https://app.evenea.pl/event/883300-44/
PRIORITY:1
CLASS:PUBLIC
END:VEVENT
END:VCALENDAR
