BEGIN:VCALENDAR
VERSION:2.0
METHOD:PUBLISH
BEGIN:VEVENT
DTSTART:20251030T173000
DTEND:20251030T200000
LOCATION:Urząd Dzielnicy Ursynów al. Komisji Edukacji Narodowej 61,  Warszawa
TRANSP: OPAQUE
SEQUENCE:0
UID:
DTSTAMP:20260420T152109Z
SUMMARY:"Finanse na rozwój biznesu - sposoby finansowania działalności gospodarczej"
DESCRIPTION: UrsynLab zaprasza na szkolenie w sali 136 (I piętro): "Finanse na rozwój biznesu - sposoby finansowania działalności gospodarczej"Praktyczne i merytoryczne szkolenie, podczas którego poznasz......
URL:https://app.evenea.pl/event/883300-62/
PRIORITY:1
CLASS:PUBLIC
END:VEVENT
END:VCALENDAR
