BEGIN:VCALENDAR
VERSION:2.0
METHOD:PUBLISH
BEGIN:VEVENT
DTSTART:20260129T173000
DTEND:20260129T200000
LOCATION:Urząd Dzielnicy Ursynów al. Komisji Edukacji Narodowej 61,  Warszawa
TRANSP: OPAQUE
SEQUENCE:0
UID:
DTSTAMP:20260420T152059Z
SUMMARY:"AI w firmie - od zera do działania. Praktyczny warsztat narzędziowy"
DESCRIPTION:UrsynLab - Przedsiębiorczy Ursynów zaprasza na szkolenie pt: "AI w firmie - od zera do działania. Praktyczny warsztat narzędziowy", które odbędzie się w Urzędzie Dzielnicy Ursynów (I p.......
URL:https://app.evenea.pl/event/883300-63/
PRIORITY:1
CLASS:PUBLIC
END:VEVENT
END:VCALENDAR
