BEGIN:VCALENDAR
VERSION:2.0
METHOD:PUBLISH
BEGIN:VEVENT
DTSTART:20221115T090000
DTEND:20221115T150000
LOCATION:Centrum Przedsiębiorczości w Piasecznie ul. Warszawska 1  Piaseczno
TRANSP: OPAQUE
SEQUENCE:0
UID:
DTSTAMP:20260421T135219Z
SUMMARY:Bezpłatny warsztat z cyklu "Firma to JA" - "Radzenie sobie ze stresem"
DESCRIPTION:Centrum Przedsiębiorczości w Piasecznie zaprasza na kolejny warsztat z cyklu "Firma to JA" - "Radzenie sobie ze stresem". W ramach warsztatu omówimy następujące zagadnienia: Jakie są oznaki i......
URL:https://app.evenea.pl/event/883710-8/
PRIORITY:1
CLASS:PUBLIC
END:VEVENT
END:VCALENDAR
