BEGIN:VCALENDAR
VERSION:2.0
METHOD:PUBLISH
BEGIN:VEVENT
DTSTART:20241015T090000
DTEND:20241015T150000
LOCATION:Centrum Przedsiębiorczości Warszawska 1  Piaseczno
TRANSP: OPAQUE
SEQUENCE:0
UID:
DTSTAMP:20260423T073700Z
SUMMARY:Bezpłatne szkolenie w Centrum Przedsiębiorczości w Piasecznie "Nastawienie na rozwój - droga do osobistego i zawodowego sukcesu"
DESCRIPTION:Klub Integracji Społecznej oraz Centrum Przedsiębiorczości w Piasecznie zapraszają na bezpłatne szkolenie "Nastawienie na rozwój - droga do osobistego i zawodowego sukcesu".Serdecznie......
URL:https://app.evenea.pl/event/883710-80/
PRIORITY:1
CLASS:PUBLIC
END:VEVENT
END:VCALENDAR
