BEGIN:VCALENDAR
VERSION:2.0
METHOD:PUBLISH
BEGIN:VEVENT
DTSTART:20241021T090000
DTEND:20241021T150000
LOCATION:Centrum Przedsiębiorczości Warszawska 1  Piaseczno
TRANSP: OPAQUE
SEQUENCE:0
UID:
DTSTAMP:20260421T072445Z
SUMMARY:Bezpłatne szkolenie w Centrum Przedsiębiorczości w Piasecznie "Odporność i elastyczność psychiczna - kompetencja XXI wieku"
DESCRIPTION:Klub Integracji Społecznej oraz Centrum Przedsiębiorczości w Piasecznie zapraszają na bezpłatne szkolenie "Odporność i elastyczność psychiczna - kompetencja XXI wieku".Zapraszamy na......
URL:https://app.evenea.pl/event/883710-81/
PRIORITY:1
CLASS:PUBLIC
END:VEVENT
END:VCALENDAR
