BEGIN:VCALENDAR
VERSION:2.0
METHOD:PUBLISH
BEGIN:VEVENT
DTSTART:20230527T190000
DTEND:20230527T210000
LOCATION:Punkt pomocy - Salam Lab ul. Radziwiłłowska 3  Kraków
TRANSP: OPAQUE
SEQUENCE:0
UID:
DTSTAMP:20260425T220136Z
SUMMARY:🇬🇧 🇺🇦 "Some of the Others". Pokaz filmu i dyskusja | "Some of the Others". Показ фільму та дискусія.
DESCRIPTION:Dodaj opis wydarzenia...
URL:https://app.evenea.pl/event/884167-474kopia2kopia1/
PRIORITY:1
CLASS:PUBLIC
END:VEVENT
END:VCALENDAR
