BEGIN:VCALENDAR
VERSION:2.0
METHOD:PUBLISH
BEGIN:VEVENT
DTSTART:20220924T093000
DTEND:20220924T200000
LOCATION:Ochota Academic Kampus Banacha Street  Warsaw
TRANSP: OPAQUE
SEQUENCE:0
UID:
DTSTAMP:20260423T113927Z
SUMMARY:VTES Grand Prix - Warsaw 2022
DESCRIPTION:Tournament schedule:9:30 - registration10:00-12:00 - I round12:15-14:15 - II round14:15-15:00 - lunch (included in the ticket)15:00-17:00- III round17:15-19:15 - Final Round and Bonus Game19:15 -......
URL:https://app.evenea.pl/event/884249-1/
PRIORITY:1
CLASS:PUBLIC
END:VEVENT
END:VCALENDAR
