BEGIN:VCALENDAR
VERSION:2.0
METHOD:PUBLISH
BEGIN:VEVENT
DTSTART:20220925T093000
DTEND:20220925T200000
LOCATION:Ochota Academic Campus Banach Street  Warsaw
TRANSP: OPAQUE
SEQUENCE:0
UID:
DTSTAMP:20260426T001712Z
SUMMARY:VTES Polish Championship 2022
DESCRIPTION:VTES Polish National Championship 20229:30 - registration10:00-12:00 - I round12:15-14:15 - II round14:15-15:00 - lunch (included in the ticket)15:00-17:00- III round17:15-19:15 - Final Round and......
URL:https://app.evenea.pl/event/884249-2/
PRIORITY:1
CLASS:PUBLIC
END:VEVENT
END:VCALENDAR
