BEGIN:VCALENDAR
VERSION:2.0
METHOD:PUBLISH
BEGIN:VEVENT
DTSTART:20221115T090000
DTEND:20221115T110000
LOCATION:   
TRANSP: OPAQUE
SEQUENCE:0
UID:
DTSTAMP:20260422T123606Z
SUMMARY:Praca w marketingu internetowym - jak zacząć
DESCRIPTION:Praca jako influencer czy youtuber to dziś marzenie wielu młodych osób, natomiast w marketingu internetowym jest znacznie więcej kreatywnej i ciekawej pracy! Podczas szkolenia przedstawimy......
URL:https://app.evenea.pl/event/885481-1/
PRIORITY:1
CLASS:PUBLIC
END:VEVENT
END:VCALENDAR
