BEGIN:VCALENDAR
VERSION:2.0
METHOD:PUBLISH
BEGIN:VEVENT
DTSTART:20241011T110000
DTEND:20241011T110000
LOCATION:   
TRANSP: OPAQUE
SEQUENCE:0
UID:
DTSTAMP:20260424T201919Z
SUMMARY:Jak rozwinąć swój pomysł z Garage Genius? - Przewodnik krok po kroku
DESCRIPTION:Masz innowacyjny pomysł, ale nie wiesz, jak przekuć go w biznes? Chcesz zdobyć wsparcie ekspertów, którzy pomogą Ci w komercjalizacji projektu? Dołącz do webinaru Garage Genius i dowiedz......
URL:https://app.evenea.pl/event/886403-5/
PRIORITY:1
CLASS:PUBLIC
END:VEVENT
END:VCALENDAR
