BEGIN:VCALENDAR
VERSION:2.0
METHOD:PUBLISH
BEGIN:VEVENT
DTSTART:20231115T090000
DTEND:20231115T090000
LOCATION:Gdańsk 21 Okopowa  Gdańsk
TRANSP: OPAQUE
SEQUENCE:0
UID:
DTSTAMP:20260422T042701Z
SUMMARY:Elektrownia jądrowa na Pomorzu - szanse i ryzyka.  Czy istnieje alternatywa?
DESCRIPTION:ZaproszenieElektrownia jądrowa na Pomorzu - szanse i ryzyka. Czy istnieje alternatywa?15 listopada 2023 r. godz. 09.00 Urząd Marszałkowski Województwa Pomorskiego, Sala im. Lecha Bądkowskiego......
URL:https://app.evenea.pl/event/886431-10/
PRIORITY:1
CLASS:PUBLIC
END:VEVENT
END:VCALENDAR
