BEGIN:VCALENDAR
VERSION:2.0
METHOD:PUBLISH
BEGIN:VEVENT
DTSTART:20230224T100000
DTEND:20230224T123000
LOCATION:Izba Gospodarcza Wielkopolski Wschodniej Zakładowa 11  Konin
TRANSP: OPAQUE
SEQUENCE:0
UID:
DTSTAMP:20260422T223950Z
SUMMARY:FUNDUSZE EUROPEJSKIE DLA  OŚWIATY
DESCRIPTION:Zapraszamy Państwa na seminarium informacyjne:FUNDUSZE EUROPEJSKIE DLA OŚWIATYPodczas spotkania z Państwem przedstawimy aktualne informacje dotyczące uruchamianych w 2023 r. programów......
URL:https://app.evenea.pl/event/886468-4/
PRIORITY:1
CLASS:PUBLIC
END:VEVENT
END:VCALENDAR
