BEGIN:VCALENDAR
VERSION:2.0
METHOD:PUBLISH
BEGIN:VEVENT
DTSTART:20230202T111500
DTEND:20230202T150000
LOCATION:Politechnika Wrocławska   
TRANSP: OPAQUE
SEQUENCE:0
UID:
DTSTAMP:20260422T231608Z
SUMMARY:AI Day: Studiuj Sztuczną Inteligencję
DESCRIPTION:Serdecznie zapraszamy wszystkie osoby zainteresowane kierunkiem studiów magisterskich sztuczna inteligencja na Politechnice Wrocławskiej na spotkanie otwarte. Na spotkaniu będzie możliwość......
URL:https://app.evenea.pl/event/886918-3/
PRIORITY:1
CLASS:PUBLIC
END:VEVENT
END:VCALENDAR
