BEGIN:VCALENDAR
VERSION:2.0
METHOD:PUBLISH
BEGIN:VEVENT
DTSTART:20260324T170000
DTEND:20260324T170000
LOCATION:Siedziba Stowarzyszenia KLANZA ul. Wincentego Witosa 15B/12  Białystok
TRANSP: OPAQUE
SEQUENCE:0
UID:
DTSTAMP:20260419T154229Z
SUMMARY:Wielkanocne Otwarte Warsztaty Tematyczne dla dzieci w wieku od 5 do 10 lat wraz z opiekunami
DESCRIPTION:🐣🌷 Wielkanocne Otwarte Warsztaty Tematyczne dla dzieci 🌷🐣Zapraszamy dzieci w wieku 5-10 lat wraz z opiekunami na wyjątkowe warsztaty wielkanocne, podczas których wspólnie poczujemy......
URL:https://app.evenea.pl/event/887376-105/
PRIORITY:1
CLASS:PUBLIC
END:VEVENT
END:VCALENDAR
