BEGIN:VCALENDAR
VERSION:2.0
METHOD:PUBLISH
BEGIN:VEVENT
DTSTART:20251201T103000
DTEND:20251218T103000
LOCATION:Stowarzyszenie KLANZA Oddział Białostocki Witosa 15B lok. 12 (II piętro)  Białystok
TRANSP: OPAQUE
SEQUENCE:0
UID:
DTSTAMP:20260425T221422Z
SUMMARY:Warsztaty plastyczne towarzyszące wystawie Elżbiety Stelmaszuk pt. "Byty ulotne" dla uczniów klas 7-8 szkół podstawowych
DESCRIPTION:Serdecznie zapraszamy uczniów szkół podstawowych do odwiedzania wystawy Elżbiety Stelmaszuk pt. "Byty ulotne". W ramach wizyty przewidziane jest merytoryczne oprowadzanie po wystawie wraz z......
URL:https://app.evenea.pl/event/887376-81/
PRIORITY:1
CLASS:PUBLIC
END:VEVENT
END:VCALENDAR
