BEGIN:VCALENDAR
VERSION:2.0
METHOD:PUBLISH
BEGIN:VEVENT
DTSTART:20251112T180000
DTEND:20251112T180000
LOCATION:Concordia Design ul. Zwierzyniecka 3  Poznań
TRANSP: OPAQUE
SEQUENCE:0
UID:
DTSTAMP:20260422T031947Z
SUMMARY:Katarzyna Butowtt spotkanie autorskie
DESCRIPTION:Katarzyna ButowttW latach 80. i 90. XX wieku była jedną z najbardziej rozpoznawalnych modelek w Polsce. Jej twarz zdobiła liczne billboardy, a ona sama brała udział w pokazach mody w kraju i......
URL:https://app.evenea.pl/event/887980-31/
PRIORITY:1
CLASS:PUBLIC
END:VEVENT
END:VCALENDAR
