BEGIN:VCALENDAR
VERSION:2.0
METHOD:PUBLISH
BEGIN:VEVENT
DTSTART:20241129T100000
DTEND:20241129T160000
LOCATION:Łódzka Agencja Rozwoju Regionalnego S.A. Narutowicza 34  Łódź
TRANSP: OPAQUE
SEQUENCE:0
UID:
DTSTAMP:20260420T111721Z
SUMMARY:Nowe Perspektywy Finansowania i Ochrona przed Ryzykiem w Zarządzaniu Środkami UE
DESCRIPTION:**** Nowe Perspektywy Finansowania i Ochrona przed Ryzykiem w Zarządzaniu Środkami UE ***Data: 29 listopada 2024 r. Godzina: 10:00 - 16:00 (rejestracja od 9:30) Miejsce: Łódzka Agencja Rozwoju......
URL:https://app.evenea.pl/event/889020-bccdotacjekopia1/
PRIORITY:1
CLASS:PUBLIC
END:VEVENT
END:VCALENDAR
