BEGIN:VCALENDAR
VERSION:2.0
METHOD:PUBLISH
BEGIN:VEVENT
DTSTART:20230518T090000
DTEND:20230518T143000
LOCATION:Inkubator STARTER Lęborska 3b  Gdańsk
TRANSP: OPAQUE
SEQUENCE:0
UID:
DTSTAMP:20260423T115630Z
SUMMARY:I Student Business Conference
DESCRIPTION:Chcesz poszerzyć swoje horyzonty, spojrzeć na biznes od innej strony i poznać historie największych przedsiębiorców i specjalistów z całego Pomorza? I Student Business Conference to......
URL:https://app.evenea.pl/event/889092-1/
PRIORITY:1
CLASS:PUBLIC
END:VEVENT
END:VCALENDAR
