BEGIN:VCALENDAR
VERSION:2.0
METHOD:PUBLISH
BEGIN:VEVENT
DTSTART:20230622T163000
DTEND:20230622T163000
LOCATION:Strefa Spotkań Face2Face Żelazna 2  Katowice
TRANSP: OPAQUE
SEQUENCE:0
UID:
DTSTAMP:20260421T135159Z
SUMMARY:Akademia Menedżerów Muzycznych w Strefie Face2Face
DESCRIPTION:Zapraszamy na kolejne wydarzenie Akademii Menedżerów Muzycznych! Od ponad dekady działamy, aby łączyć ludzi muzyki i tworzyć przestrzeń do współpracy nie tylko w branży muzycznej, ale......
URL:https://app.evenea.pl/event/889889-9/
PRIORITY:1
CLASS:PUBLIC
END:VEVENT
END:VCALENDAR
