BEGIN:VCALENDAR
VERSION:2.0
METHOD:PUBLISH
BEGIN:VEVENT
DTSTART:20241209T173000
DTEND:20241209T193000
LOCATION:Muzeum w Wodzisławiu Śląskim - Pałac Dietrichsteinów Kubsza 2  Wodzisław Śląski
TRANSP: OPAQUE
SEQUENCE:0
UID:
DTSTAMP:20260423T061446Z
SUMMARY:Spotkania pełne mocy - trening uważności
DESCRIPTION:Grudzień to czas wzruszeń, uśmiechów i wyjątkowych emocji.... bywa jednak, że emocje biorą górę i trudno poradzić sobie: 📚z natłokiem obowiązków i zadań 👥z nadmiarem ludzi albo......
URL:https://app.evenea.pl/event/890645-11/
PRIORITY:1
CLASS:PUBLIC
END:VEVENT
END:VCALENDAR
