BEGIN:VCALENDAR
VERSION:2.0
METHOD:PUBLISH
BEGIN:VEVENT
DTSTART:20230721T000000
DTEND:20230825T000000
LOCATION:Muzeum w Wodzisławiu Śląskim - Pałac Dietrichsteinów Kubsza 2  Wodzisław Śl
TRANSP: OPAQUE
SEQUENCE:0
UID:
DTSTAMP:20260419T220300Z
SUMMARY:Wakacyjne Warsztaty Familijne
DESCRIPTION:Wszystkich, którzy kochają naukę zapraszamy na Wakacyjne Warsztaty Familijne. Szykujemy dla Was dwa wyjątkowo interesujące spotkania z nauką, które poprowadzi mgr inż.Jacek Mamos z Zakładu......
URL:https://app.evenea.pl/event/890645-3/
PRIORITY:1
CLASS:PUBLIC
END:VEVENT
END:VCALENDAR
