BEGIN:VCALENDAR
VERSION:2.0
METHOD:PUBLISH
BEGIN:VEVENT
DTSTART:20260411T150000
DTEND:20260411T150000
LOCATION:Muzeum w Wodzisławiu Śląskim - Pałac Dietrichsteinów Kubsza 2  Wodzisław Śląski
TRANSP: OPAQUE
SEQUENCE:0
UID:
DTSTAMP:20260422T025735Z
SUMMARY:Znany-nieznany Richard Kügele
DESCRIPTION:Zapraszamy na wyjątkowy koncert z okazji 100. rocznicy śmierci Richarda Kügele. Ten wyjątkowy wodzisławski kompozytor skomponował setki utworów, ponad 400 jest znanych do dziś, ale jego......
URL:https://app.evenea.pl/event/890645-34/
PRIORITY:1
CLASS:PUBLIC
END:VEVENT
END:VCALENDAR
