BEGIN:VCALENDAR
VERSION:2.0
METHOD:PUBLISH
BEGIN:VEVENT
DTSTART:20240622T183000
DTEND:20240622T210000
LOCATION:Pałac Dietrichsteinów Kubsza 2  Wodzisław Śląski
TRANSP: OPAQUE
SEQUENCE:0
UID:
DTSTAMP:20260423T033129Z
SUMMARY:Gra rodzinna "Pałacowe zakamarki"
DESCRIPTION:W pałacowych wnętrzach życie toczyło się swoim nurtem. Tu dystyngowane damy rozmawiały przy herbatce i ciasteczkach. Tam z kolei panowie wspólnie paląc cygara planowali kolejne polowania.......
URL:https://app.evenea.pl/event/890645-5/
PRIORITY:1
CLASS:PUBLIC
END:VEVENT
END:VCALENDAR
