BEGIN:VCALENDAR
VERSION:2.0
METHOD:PUBLISH
BEGIN:VEVENT
DTSTART:20241031T190000
DTEND:20241031T190000
LOCATION:Instytut Teatralny im. Zbigniewa Raszewskiego Jazdów 1  Warszawa
TRANSP: OPAQUE
SEQUENCE:0
UID:
DTSTAMP:20260422T160330Z
SUMMARY:RYMKIEWICZ: PORWANIE EUROPY
DESCRIPTION:Wydarzenie w ramach II Festiwalu Rymkiewiczowskiego: ŚWIATY PODZIEMNE.Czytanie performatywne dramatu Jarosława Marka Rymkiewicza w wykonaniu aktorów Teatru Klasyki Polskiej.Europa została......
URL:https://app.evenea.pl/event/892522-8/
PRIORITY:1
CLASS:PUBLIC
END:VEVENT
END:VCALENDAR
