BEGIN:VCALENDAR
VERSION:2.0
METHOD:PUBLISH
BEGIN:VEVENT
DTSTART:20251213T160000
DTEND:20251213T160000
LOCATION:Gminne Centrum Kultury w Gródku A. i G. Chodkiewiczów 4  Gródek
TRANSP: OPAQUE
SEQUENCE:0
UID:
DTSTAMP:20260421T125539Z
SUMMARY:Kabaret CZWARTA FALA w Gródku
DESCRIPTION:Czwarta Fala po raz kolejny w Gródku! Kilka lat temu gościliśmy ich na deskach naszej sceny, a w tym roku wracają ze świeżutkim, nowym porgramem! Kiedy: 13 grudnia (sobota)Godzina:......
URL:https://app.evenea.pl/event/893240-5/
PRIORITY:1
CLASS:PUBLIC
END:VEVENT
END:VCALENDAR
