BEGIN:VCALENDAR
VERSION:2.0
METHOD:PUBLISH
BEGIN:VEVENT
DTSTART:20250927T120000
DTEND:20250927T120000
LOCATION:Hotel Ambasador Premium Łódź płk. Jana Kilińskiego 145, 90-315 Łódź  Łódź
TRANSP: OPAQUE
SEQUENCE:0
UID:
DTSTAMP:20260425T003304Z
SUMMARY:Leczenie otyłości - poznaj różne metody walki z otyłością | Konferencja Health Team 2025
DESCRIPTION:Konferencja Health Team 2025Leczenie otyłości - poznaj różne metody walki z otyłością 🗓 27 września 2025 r. 🕛 godz. 12:00-14:00 📍 Hotel Ambasador, ŁódźGłównym tematem......
URL:https://app.evenea.pl/event/893368-5/
PRIORITY:1
CLASS:PUBLIC
END:VEVENT
END:VCALENDAR
