BEGIN:VCALENDAR
VERSION:2.0
METHOD:PUBLISH
BEGIN:VEVENT
DTSTART:20260508T093000
DTEND:20260508T120000
LOCATION:StrefART ul. Fabryczna 2  Tychy
TRANSP: OPAQUE
SEQUENCE:0
UID:
DTSTAMP:20260424T210603Z
SUMMARY:BUDOWANIE MARKI  W PRZEMYŚLE - Aspekty prawne i praktyczne
DESCRIPTION:...
URL:https://app.evenea.pl/event/893532-32/
PRIORITY:1
CLASS:PUBLIC
END:VEVENT
END:VCALENDAR
