BEGIN:VCALENDAR
VERSION:2.0
METHOD:PUBLISH
BEGIN:VEVENT
DTSTART:20200919T100000
DTEND:20200919T100000
LOCATION:Przystań kajakowa Żukowo/Lniska   
TRANSP: OPAQUE
SEQUENCE:0
UID:
DTSTAMP:20260424T111438Z
SUMMARY:Dzika Radunia - spływ kajakowy
DESCRIPTION:Zapraszamy na spływ kajakowy środkowym odcinkiem Raduni.Wypożyczamy cały potrzebny sprzęt oraz mapkę do samodzielnego płynięcia tą piękną rzeką.Dystans do wyboru 10 lub 14 km.Ten dziki......
URL:https://app.evenea.pl/event/89403-1/
PRIORITY:1
CLASS:PUBLIC
END:VEVENT
END:VCALENDAR
