BEGIN:VCALENDAR
VERSION:2.0
METHOD:PUBLISH
BEGIN:VEVENT
DTSTART:20231228T190000
DTEND:20231228T190000
LOCATION:Zmiana Klimatu Warszawska 6  Białystok
TRANSP: OPAQUE
SEQUENCE:0
UID:
DTSTAMP:20260423T050038Z
SUMMARY:ROCK & NATURE   OBRAZ KONTROLNY, ROMAN TARASEWICZ, MARZANNA SZKUTA, RADIOAKTYWNI
DESCRIPTION:Koncert pt. ROCK &amp; NATURE Zespół OBRAZ KONTROLNY występował z takimi gwiazdami muzyki rockowej jak BAJM, DŻEM, ODZIAŁ ZAMKNIĘTY,PROLETARIAT,BIG CYC, MYSLOWITZ. Tym koncertem zespół......
URL:https://app.evenea.pl/event/894310-1/
PRIORITY:1
CLASS:PUBLIC
END:VEVENT
END:VCALENDAR
