BEGIN:VCALENDAR
VERSION:2.0
METHOD:PUBLISH
BEGIN:VEVENT
DTSTART:20240315T170000
DTEND:20240317T193000
LOCATION:Google Campus Warsaw Plac Konesera 10, 03-736  Warsaw
TRANSP: OPAQUE
SEQUENCE:0
UID:
DTSTAMP:20260420T170525Z
SUMMARY:Techstars Startup Weekend Warsaw
DESCRIPTION:Techstars Startup Weekend is a 54-hour-long hackathon that will be held at Google Campus in Warsaw on March 15-17th. Already second edition of this event will gather up to 150 tech founders,......
URL:https://app.evenea.pl/event/894658-1/
PRIORITY:1
CLASS:PUBLIC
END:VEVENT
END:VCALENDAR
