BEGIN:VCALENDAR
VERSION:2.0
METHOD:PUBLISH
BEGIN:VEVENT
DTSTART:20241028T180000
DTEND:20241028T180000
LOCATION:showroom Comforty ul. Ludwika Waryńskiego 28  Warszawa
TRANSP: OPAQUE
SEQUENCE:0
UID:
DTSTAMP:20260420T185541Z
SUMMARY:"Facility management po godzinach - wieczór z architekturą, wzornictwem i dobrą lekturą"
DESCRIPTION:Stowarzyszenie Przestrzeń oraz Comforty zapraszają na wydarzenie:"Facility management po godzinach - wieczór z architekturą, wzornictwem i dobrą lekturą"Premiera książki "Okiełznać......
URL:https://app.evenea.pl/event/894777-8/
PRIORITY:1
CLASS:PUBLIC
END:VEVENT
END:VCALENDAR
