BEGIN:VCALENDAR
VERSION:2.0
METHOD:PUBLISH
BEGIN:VEVENT
DTSTART:20250512T090000
DTEND:20250513T150000
LOCATION:Hotel Courtyard by Marriott Gdynia Waterfront Jerzego Waszyngtona 19  Gdynia
TRANSP: OPAQUE
SEQUENCE:0
UID:
DTSTAMP:20260420T012100Z
SUMMARY:Seminarium Informacyjne dla uczestników systemu SURE-EU®
DESCRIPTION:W DNIACH 12 - 13.05.2025 w GDYNI odbędzie się II EDYCJA SEMINARIUM W ZAKRESIE WYMAGAŃ SYSTEMU SURE-EU® wg DYREKTYWY REDIIIStowarzyszenie Branżowe POLSKA RADA PELLETU jako organizator......
URL:https://app.evenea.pl/event/894833-3kopia1/
PRIORITY:1
CLASS:PUBLIC
END:VEVENT
END:VCALENDAR
