BEGIN:VCALENDAR
VERSION:2.0
METHOD:PUBLISH
BEGIN:VEVENT
DTSTART:20241218T170000
DTEND:20241218T170000
LOCATION:Żłobek Królewna Śnieżka Grunwaldzka 34  Poznań
TRANSP: OPAQUE
SEQUENCE:0
UID:
DTSTAMP:20260425T141047Z
SUMMARY:Królewna Śnieżka - Sensoryczne święta
DESCRIPTION:📅 Kiedy: 18.12.2024 godz. 17:00📍 Gdzie: Żłobek Królewna Śnieżka ul. Grunwaldzka 34 👶 Dla kogo: Dzieci do 3 lat z rodzicamiℹ️ Liczba miejsc ograniczona - obowiązują zapisy!📞......
URL:https://app.evenea.pl/event/895070-11/
PRIORITY:1
CLASS:PUBLIC
END:VEVENT
END:VCALENDAR
