BEGIN:VCALENDAR
VERSION:2.0
METHOD:PUBLISH
BEGIN:VEVENT
DTSTART:20250910T173000
DTEND:20250910T223000
LOCATION:Świetlica Wolności Nowy Świat 6/12  Warszawa
TRANSP: OPAQUE
SEQUENCE:0
UID:
DTSTAMP:20260423T201323Z
SUMMARY:FuckUPs Night Warsaw: Startups + Agencies  | September 10
DESCRIPTION:3Hey, community! We're kicking off the new event and learning season with a hit format! Startup founders and agency CEOs will give you a crash course on learning from others' mistakes, staying......
URL:https://app.evenea.pl/event/895298-12/
PRIORITY:1
CLASS:PUBLIC
END:VEVENT
END:VCALENDAR
