BEGIN:VCALENDAR
VERSION:2.0
METHOD:PUBLISH
BEGIN:VEVENT
DTSTART:20250826T110000
DTEND:20250826T110000
LOCATION:|Konsulat Kultury w Gdyni Jana z Kolna 25  Gdynia
TRANSP: OPAQUE
SEQUENCE:0
UID:
DTSTAMP:20260421T174538Z
SUMMARY:Warsztaty literackie dla dzieci: Gdyby dzieła sztuki zaczęły opowiadać
DESCRIPTION:26 sierpnia | wtorek11:00 Warsztaty literackie dla dzieci: Gdyby dzieła sztukizaczęły opowiadać | Prowadzenie: Katarzyna Witt | Konsulat KulturyJak wymyślić książkowych bohaterów i......
URL:https://app.evenea.pl/event/895300-4/
PRIORITY:1
CLASS:PUBLIC
END:VEVENT
END:VCALENDAR
