BEGIN:VCALENDAR
VERSION:2.0
METHOD:PUBLISH
BEGIN:VEVENT
DTSTART:20250830T103000
DTEND:20250830T103000
LOCATION:Plac Wolnej Ukrainy   Gdynia
TRANSP: OPAQUE
SEQUENCE:0
UID:
DTSTAMP:20260422T133331Z
SUMMARY:Poranne rozciąganie z Różą Misztelą
DESCRIPTION:10:30 Poranne rozciąganie z Różą Misztelą | Plac Wolnej UkrainyUdział w wydarzeniach literackich wymaga nie lada hartu, stąd w tym roku ćwiczenia z elementami Wing Chun Kung Fu i Qi Gong.......
URL:https://app.evenea.pl/event/895300-6/
PRIORITY:1
CLASS:PUBLIC
END:VEVENT
END:VCALENDAR
