BEGIN:VCALENDAR
VERSION:2.0
METHOD:PUBLISH
BEGIN:VEVENT
DTSTART:20250831T110000
DTEND:20250831T110000
LOCATION:Konsulat Kultury w Gdyni Jana z Kolna 25  Gdynia
TRANSP: OPAQUE
SEQUENCE:0
UID:
DTSTAMP:20260421T172603Z
SUMMARY:Miś, Zbyś & Piotruś: Warsztaty komiksowe dla dzieci z Piotrem Nowackim | Konsulat Kultury
DESCRIPTION:Warsztaty to spotkanie z tworzącym od ponad dwóch dekad rysownikiem komiksów i ilustratorem, Piotrem Nowackim. Autor opowie o swojejtwórczości i przekaże podstawową wiedzę na temat......
URL:https://app.evenea.pl/event/895300-7/
PRIORITY:1
CLASS:PUBLIC
END:VEVENT
END:VCALENDAR
