BEGIN:VCALENDAR
VERSION:2.0
METHOD:PUBLISH
BEGIN:VEVENT
DTSTART:20240823T153000
DTEND:20240824T180000
LOCATION:CH Złote Tarasy - strefa warsztatowa na placu zewnętrznym (po słynnych schodkach w dół :-)) Złota 59  Warszawa
TRANSP: OPAQUE
SEQUENCE:0
UID:
DTSTAMP:20260424T140109Z
SUMMARY:Letnie warsztaty w Złotych Tarasach 23 - 24 sierpnia
DESCRIPTION:🌸 Zapraszamy na wyjątkowe warsztaty tworzenia bomb do kąpieli z marką LUSH! 🛁 Pod okiem ekspertów własnoręcznie stworzycie kolorowe i pachnące bomby, które zamienią Waszą kąpiel w......
URL:https://app.evenea.pl/event/897867-8/
PRIORITY:1
CLASS:PUBLIC
END:VEVENT
END:VCALENDAR
